BEGIN:VCALENDAR
VERSION:2.0
PRODID:-//Meneer de Wit - ECPv6.15.20//NONSGML v1.0//EN
CALSCALE:GREGORIAN
METHOD:PUBLISH
X-WR-CALNAME:Meneer de Wit
X-ORIGINAL-URL:https://meneerdewit.com
X-WR-CALDESC:Evenementen voor Meneer de Wit
REFRESH-INTERVAL;VALUE=DURATION:PT1H
X-Robots-Tag:noindex
X-PUBLISHED-TTL:PT1H
BEGIN:VTIMEZONE
TZID:UTC
BEGIN:STANDARD
TZOFFSETFROM:+0000
TZOFFSETTO:+0000
TZNAME:UTC
DTSTART:20250101T000000
END:STANDARD
END:VTIMEZONE
BEGIN:VTIMEZONE
TZID:Europe/Amsterdam
BEGIN:DAYLIGHT
TZOFFSETFROM:+0100
TZOFFSETTO:+0200
TZNAME:CEST
DTSTART:20250330T010000
END:DAYLIGHT
BEGIN:STANDARD
TZOFFSETFROM:+0200
TZOFFSETTO:+0100
TZNAME:CET
DTSTART:20251026T010000
END:STANDARD
BEGIN:DAYLIGHT
TZOFFSETFROM:+0100
TZOFFSETTO:+0200
TZNAME:CEST
DTSTART:20260329T010000
END:DAYLIGHT
BEGIN:STANDARD
TZOFFSETFROM:+0200
TZOFFSETTO:+0100
TZNAME:CET
DTSTART:20261025T010000
END:STANDARD
BEGIN:DAYLIGHT
TZOFFSETFROM:+0100
TZOFFSETTO:+0200
TZNAME:CEST
DTSTART:20270328T010000
END:DAYLIGHT
BEGIN:STANDARD
TZOFFSETFROM:+0200
TZOFFSETTO:+0100
TZNAME:CET
DTSTART:20271031T010000
END:STANDARD
END:VTIMEZONE
BEGIN:VEVENT
DTSTART;TZID=UTC:20260419T150000
DTEND;TZID=UTC:20260419T190000
DTSTAMP:20260424T180944
CREATED:20260304T091205Z
LAST-MODIFIED:20260414T141230Z
UID:81-1776610800-1776625200@meneerdewit.com
SUMMARY:Tangosalon & New Classes – Workshop Barridas & Blocks + Milonga
DESCRIPTION:15:00 – 16:30 uur — Workshop BARRIDAS & BLOCKS\n€ 15 per persoon (€ 20 incl. salon)\nReservering: info@tangotalks.com \n16:30 – 19:00 uur — Milonga met DJ Afrodite’s Child\nToegang € 10 \nLocatie: Studio de Wit\, Baarsjesweg 202\, 1057 HS Amsterdam
URL:https://meneerdewit.com/event/tangosalon-new-classes-workshop-barridas-blocks-milonga/
LOCATION:Meneer de Wit Studio\, Baarsjesweg 202\, Amsterdam\, 1057 HS
ATTACH;FMTTYPE=image/jpeg:https://meneerdewit.com/wp-content/uploads/2026/03/Salonfoto-7-april-scaled.jpg
END:VEVENT
BEGIN:VEVENT
DTSTART;TZID=UTC:20260416T200000
DTEND;TZID=UTC:20260416T230000
DTSTAMP:20260424T180944
CREATED:20260304T091205Z
LAST-MODIFIED:20260422T193923Z
UID:79-1776369600-1776380400@meneerdewit.com
SUMMARY:Meneer de Wit Moet Lachen – David van Rosmalen\, Ivar van der Walle & Djoni de Vos
DESCRIPTION:Op 16 april is in Meneer de Wit de tweede editie van de nieuwe comedyreeks: ‘Meneer de Wit moet lachen’ — een terugkerende comedyavond in Amsterdam-West. \nElke editie brengt een wisselende line-up en laat zien wat er speelt binnen de Nederlandse comedy-scene. Elke derde donderdag dus Comedy Night in Meneer de Wit. \nDe line-up van deze editie bestaat uit David van Rosmalen\, Ivar van der Walle & Djoni de Vos.
URL:https://meneerdewit.com/event/meneer-de-wit-moet-lachen-david-van-rosmalen-ivar-van-der-walle-djoni-de-vos/
LOCATION:Meneer de Wit Basement\, Baarsjesweg 208 K\, Amsterdam\, 1057HS\, Netherlands
ATTACH;FMTTYPE=image/jpeg:https://meneerdewit.com/wp-content/uploads/2026/03/MDWML-April16-Website-Thumbnail-scaled.jpg
END:VEVENT
BEGIN:VEVENT
DTSTART;TZID=Europe/Amsterdam:20260408T200000
DTEND;TZID=Europe/Amsterdam:20260408T230000
DTSTAMP:20260424T180944
CREATED:20260324T065944Z
LAST-MODIFIED:20260423T135323Z
UID:293-1775678400-1775689200@meneerdewit.com
SUMMARY:Abel Natürlich and Pino Nwar
DESCRIPTION:Every last Thursday of the month\, Meneer de Wit hosts a singer-songwriter night. This edition features Abel Natürlich and Pino Nwar. \nTickets: https://meneer-de-wit.weticket.io/live-at-meneer-de-wit-pino-nwar-abel-nat-rlich/shop \nAbel Natürlich is a Lelystad-born songwriter and pianist whose adventurous compositions are paired with direct\, relatable lyrics. On his (upcoming) album Please Don’t Laugh\, Abel navigates the tension between sincerity and self-consciousness\, creating a deeply moving—and often funny—exploration of the ego. Whether you’re an artist or not\, his songs resonate. On stage\, he is joined by a flexible rhythm section that ensures every nuance is felt\, balancing precision with spontaneity. \nPino Nwar is back\, carrying stories of everything he’s experienced since his last performances. With nothing but his guitar and a keen eye for folk storytelling\, Pino crafts intimate\, one-man shows that invite you to sit back and soak it all in—preferably with a glass of Pinot Noir nearby. His new album will arrive later this year\, but live is the place to hear these songs first.
URL:https://meneerdewit.com/event/abel-naturlich-and-pino-nwar/
LOCATION:Meneer de Wit\, Baarsjesweg 202\, Amsterdam\, 1057 HS
ATTACH;FMTTYPE=image/png:https://meneerdewit.com/wp-content/uploads/2026/03/1c29c3a6-907f-4a26-8d3d-0686ba74157c1772553186-019cb467-2bfe-70ec-b994-57d633876637.png
END:VEVENT
BEGIN:VEVENT
DTSTART;TZID=UTC:20260319T200000
DTEND;TZID=UTC:20260319T230000
DTSTAMP:20260424T180944
CREATED:20260304T091147Z
LAST-MODIFIED:20260306T161347Z
UID:75-1773950400-1773961200@meneerdewit.com
SUMMARY:Meneer de Wit Moet Lachen – Marie Koet\, Ayoub Kharkach & Luan Buleshkaj
DESCRIPTION:Op 19 maart start Kunst & Cultuurcentrum Meneer de Wit met een nieuwe comedyreeks: ‘Meneer de Wit moet lachen’ — een terugkerende comedyavond in Amsterdam-West. \nDeze eerste avond is de aftrap van een reeks van vier edities. Elke editie brengt een wisselende line-up en laat zien wat er speelt binnen de Nederlandse comedy-scene. \nDe line-up van de eerste editie bestaat uit spoken word-artist Luan Buleshkaj\, kleinkunstenaar Ayoub Kharkach en comedian Marie Koet. \nTickets
URL:https://meneerdewit.com/event/meneer-de-wit-moet-lachen-marie-koet-ayoub-kharkach-luan-buleshkaj/
LOCATION:Meneer de Wit\, Baarsjesweg 202\, Amsterdam\, 1057 HS
ATTACH;FMTTYPE=image/jpeg:https://meneerdewit.com/wp-content/uploads/2026/03/nike-panna-02.jpg
END:VEVENT
BEGIN:VEVENT
DTSTART;TZID=UTC:20260313T200000
DTEND;TZID=UTC:20260313T223000
DTSTAMP:20260424T180944
CREATED:20260304T091147Z
LAST-MODIFIED:20260412T190150Z
UID:76-1773432000-1773441000@meneerdewit.com
SUMMARY:Live at Meneer de Wit: Melanie Bong & Christian Doepke – Gipsy Fire
DESCRIPTION:We are thrilled to welcome vocalist Melanie Bong to Meneer de Wit for an intimate evening of soulful jazz. \nBorn and raised in Tyrol\, Austria\, Melanie Bong developed her rich musical voice through studies in Graz and New York\, working with legendary jazz vocalists Sheila Jordan\, Jay Clayton\, Andy Bey\, and Mark Murphy. Her smooth\, expressive voice is deeply emotional and instantly captivating. \nTogether with pianist Christian Doepke\, she presents music from her latest album Gipsy Fire\, alongside a selection of beautifully chosen jazz standards. \nCritics compare her sound to legends such as Billie Holiday\, Nina Simone\, and Ella Fitzgerald\, with one review describing her style as a unique blend of Nina Simone\, Edith Piaf\, and Carmen Miranda. \nExpect an evening filled with warmth\, depth\, and musical storytelling — an up-close jazz experience in the cozy atmosphere of Meneer de Wit. \nTickets
URL:https://meneerdewit.com/event/live-at-meneer-de-wit-melanie-bong-christian-doepke-gipsy-fire/
LOCATION:Meneer de Wit Basement\, Baarsjesweg 208 K\, Amsterdam\, 1057HS\, Netherlands
ATTACH;FMTTYPE=image/jpeg:https://meneerdewit.com/wp-content/uploads/2026/03/thumb-wesc-letsgetphysical.jpg
END:VEVENT
END:VCALENDAR